BEGIN:VCALENDAR
VERSION:2.0
PRODID:-//Tukios.com/
BEGIN:VEVENT
UID:66c8136c-0503-4055-b2ea-5fb5673ed78f@www.westfordfuneralhome.com
DTSTAMP:20260423T225507Z
DTSTART:20260501T210000Z
DTEND:20260501T220000Z
SUMMARY:Graveside Service
DESCRIPTION:
URL:https://www.westfordfuneralhome.com/obituaries/richard-farmer
LOCATION: 5977 Northwest Drive  Ferndale WA 98248
GEO:48.8566759;-122.5438345
END:VEVENT
END:VCALENDAR