BEGIN:VCALENDAR
VERSION:2.0
PRODID:-//Tukios.com/
BEGIN:VEVENT
UID:953368bd-f6a8-4849-a209-aecf042723ec@www.westfordfuneralhome.com
DTSTAMP:20260423T225106Z
DTSTART:20260501T180000Z
DTEND:20260501T190000Z
SUMMARY:Funeral Service
DESCRIPTION:Reception following.
URL:https://www.westfordfuneralhome.com/obituaries/richard-farmer
LOCATION: 1301 Broadway  Bellingham WA 98225
GEO:48.7581034;-122.4915936
END:VEVENT
END:VCALENDAR