BEGIN:VCALENDAR
VERSION:2.0
PRODID:-//Tukios.com/
BEGIN:VEVENT
UID:a478afed-9d64-46a3-8da8-1b3bad04b7cf@www.westfordfuneralhome.com
DTSTAMP:20260421T091430Z
DTSTART:20260303T183000Z
DTEND:20260303T193000Z
SUMMARY:Mass of Christian Burial
DESCRIPTION:
URL:https://www.westfordfuneralhome.com/obituaries/charlyn-dalvit
LOCATION: 2116 Cornwall Avenue  Bellingham WA 98225
GEO:48.7587627;-122.4747576
END:VEVENT
END:VCALENDAR