BEGIN:VCALENDAR
VERSION:2.0
PRODID:-//Tukios.com/
BEGIN:VEVENT
UID:a14cb5d7-8180-4797-b29b-5fffd65d5377@www.westfordfuneralhome.com
DTSTAMP:20260421T081737Z
DTSTART:20260303T200000Z
DTEND:20260303T210000Z
SUMMARY:Reception
DESCRIPTION:
URL:https://www.westfordfuneralhome.com/obituaries/charlyn-dalvit
LOCATION: 1300 Broadway  Bellingham WA 98225
GEO:48.7576674;-122.4910379
END:VEVENT
END:VCALENDAR